BEGIN:VCALENDAR
VERSION:2.0
PRODID:-//Tukios.com/
BEGIN:VEVENT
UID:8aeb8a4c-3b01-4bba-a114-d6710a7bf180@www.ericksonhansen.com
DTSTAMP:20260422T222206Z
DTSTART:20260427
SUMMARY:Burial
DESCRIPTION:
URL:https://www.ericksonhansen.com/obituaries/sultana-susie-peterson
LOCATION: 679 Willard Avenue  Newington CT 06111
GEO:41.6981808;-72.7346104
END:VEVENT
END:VCALENDAR