BEGIN:VCALENDAR
VERSION:2.0
PRODID:-//Tukios.com/
BEGIN:VEVENT
UID:3da8c83b-12ff-4c32-8f18-0e5881753643@www.ericksonhansen.com
DTSTAMP:20260422T222455Z
DTSTART:20260427T150000Z
DTEND:20260427T160000Z
SUMMARY:Funeral Service
DESCRIPTION:In lieu of flowers, please donate to St. George Greek 
	Orthodox Church at the above address.
URL:https://www.ericksonhansen.com/obituaries/sultana-susie-peterson
LOCATION: 301 West Main Street  New Britain CT 06052
GEO:41.6660836;-72.7915585
END:VEVENT
END:VCALENDAR