BEGIN:VCALENDAR
VERSION:2.0
PRODID:-//Tukios.com/
BEGIN:VEVENT
UID:eb610cd5-9e49-4f66-b202-59274dfcc093@www.ericksonhansen.com
DTSTAMP:20260422T222614Z
DTSTART:20260427T140000Z
DTEND:20260427T150000Z
SUMMARY:Calling Hour
DESCRIPTION:In lieu of flowers, please donate to St. George Greek 
	Orthodox Church at the above address.
URL:https://www.ericksonhansen.com/obituaries/sultana-susie-peterson
LOCATION: 301 West Main Street  New Britain CT 06052
GEO:41.6660836;-72.7915585
END:VEVENT
END:VCALENDAR