BEGIN:VCALENDAR
VERSION:2.0
PRODID:-//Tukios.com/
BEGIN:VEVENT
UID:9041a25e-dc44-44be-80f0-34460da9e246@www.ericksonhansen.com
DTSTAMP:20260424T214748Z
DTSTART:20260427T210000Z
DTEND:20260427T230000Z
SUMMARY:Calling Hours
DESCRIPTION:
URL:https://www.ericksonhansen.com/obituaries/felix-justiniano-jr
LOCATION: 411 S Main St  New Britain CT 06051
GEO:41.653477;-72.7757886
END:VEVENT
END:VCALENDAR