BEGIN:VCALENDAR
VERSION:2.0
PRODID:-//Tukios.com/
BEGIN:VEVENT
UID:bbb60317-5b2a-4d76-b4e5-cd630658e28f@www.ericksonhansen.com
DTSTAMP:20260424T190905Z
DTSTART:20260507T143000Z
DTEND:20260507T153000Z
SUMMARY:Memorial Mass
DESCRIPTION:
URL:https://www.ericksonhansen.com/obituaries/adeline-addie-nielson
LOCATION: 1010 Slater Road  New Britain CT 06053
GEO:41.6935528;-72.8039104
END:VEVENT
END:VCALENDAR